BEGIN:VCALENDAR
VERSION:2.0
PRODID:-//Former Students and Friends of Robert Moton High School - ECPv6.15.20//NONSGML v1.0//EN
CALSCALE:GREGORIAN
METHOD:PUBLISH
X-WR-CALNAME:Former Students and Friends of Robert Moton High School
X-ORIGINAL-URL:https://formerrobertmotonhighschool.org
X-WR-CALDESC:Events for Former Students and Friends of Robert Moton High School
REFRESH-INTERVAL;VALUE=DURATION:PT1H
X-Robots-Tag:noindex
X-PUBLISHED-TTL:PT1H
BEGIN:VTIMEZONE
TZID:America/New_York
BEGIN:DAYLIGHT
TZOFFSETFROM:-0500
TZOFFSETTO:-0400
TZNAME:EDT
DTSTART:20240310T070000
END:DAYLIGHT
BEGIN:STANDARD
TZOFFSETFROM:-0400
TZOFFSETTO:-0500
TZNAME:EST
DTSTART:20241103T060000
END:STANDARD
BEGIN:DAYLIGHT
TZOFFSETFROM:-0500
TZOFFSETTO:-0400
TZNAME:EDT
DTSTART:20250309T070000
END:DAYLIGHT
BEGIN:STANDARD
TZOFFSETFROM:-0400
TZOFFSETTO:-0500
TZNAME:EST
DTSTART:20251102T060000
END:STANDARD
BEGIN:DAYLIGHT
TZOFFSETFROM:-0500
TZOFFSETTO:-0400
TZNAME:EDT
DTSTART:20260308T070000
END:DAYLIGHT
BEGIN:STANDARD
TZOFFSETFROM:-0400
TZOFFSETTO:-0500
TZNAME:EST
DTSTART:20261101T060000
END:STANDARD
END:VTIMEZONE
BEGIN:VEVENT
DTSTART;TZID=America/New_York:20251009T180000
DTEND;TZID=America/New_York:20251013T110000
DTSTAMP:20260424T014853
CREATED:20250916T203125Z
LAST-MODIFIED:20250916T203404Z
UID:1171-1760032800-1760353200@formerrobertmotonhighschool.org
SUMMARY:The Vietnam Traveling Memorial Wall
DESCRIPTION:The Traveling Wall\nThe Vietnam Traveling Wall is a 3/5 scale of the Vietnam Memorial in Washington DC\, it stands six feet tall at the center and covers almost 300 feet from end to end. \nThis Traveling Memorial stands as a reminder of the great sacrifices made during the Vietnam War. It was made for the purpose of helping heal and rekindle friendships and to allow people the opportunity to visit loved ones in their home town who otherwise may not be able to make the trip to Washington. \nBelow is courtesy of Carroll News \nThursday\, Oct 9. \nExhibition of the wall opens at 6 p.m. on Thursday\, Oct. 9. Former U.S. Marine and Vietnam veteran Oliver North is scheduled to speak at the opening event. Other exhibits and features will be available over the multi-day exhibition\, including a tranquility tent specifically for Vietnam veterans. \n  \nSaturday\, Oct 11 \nOn Saturday\, Oct. 11\, several speakers will share their experiences as prisoners of war. These individuals include Everett Alvarez of Rockville\, a U.S. Navy officer who endured the second-longest experience as a prisoner of war in American history.  Also scheduled to speak is John Fer\, who was held in captivity for six years alongside former U.S. Sen. John McCain. Two hundred candles will be lit to honor them and other POWs and MIAs \n  \nSunday\, Oct 12 \nOn Sunday\, Oct. 12\, closing ceremonies will feature two nurses: one of whom was in the field and another who identified POWs for the military. On Monday\, Oct. 13\, the wall will be on display until 11 a.m. “Taps” will play as the wall is packed up for transport to its next destination \nCourtesy of Carroll News Link to Article \nFeel free to visit The Vietnam Traveling Memorial Wall Website
URL:https://formerrobertmotonhighschool.org/event/the-vietnam-traveling-memorial-wall/
LOCATION:New Windsor Fire Department Grounds\, https://maps.app.goo.gl/6s3HYnbQNUuXxd2BA\, New Windsor\, MD\, 21776\, United States
ATTACH;FMTTYPE=image/png:https://formerrobertmotonhighschool.org/wp-content/uploads/2025/09/Vietnam-Traveling-Memorial-2025-2.png
END:VEVENT
END:VCALENDAR