BEGIN:VCALENDAR
VERSION:2.0
PRODID:-//Former Students and Friends of Robert Moton High School - ECPv6.15.20//NONSGML v1.0//EN
CALSCALE:GREGORIAN
METHOD:PUBLISH
X-ORIGINAL-URL:https://formerrobertmotonhighschool.org
X-WR-CALDESC:Events for Former Students and Friends of Robert Moton High School
REFRESH-INTERVAL;VALUE=DURATION:PT1H
X-Robots-Tag:noindex
X-PUBLISHED-TTL:PT1H
BEGIN:VTIMEZONE
TZID:America/New_York
BEGIN:DAYLIGHT
TZOFFSETFROM:-0500
TZOFFSETTO:-0400
TZNAME:EDT
DTSTART:20250309T070000
END:DAYLIGHT
BEGIN:STANDARD
TZOFFSETFROM:-0400
TZOFFSETTO:-0500
TZNAME:EST
DTSTART:20251102T060000
END:STANDARD
BEGIN:DAYLIGHT
TZOFFSETFROM:-0500
TZOFFSETTO:-0400
TZNAME:EDT
DTSTART:20260308T070000
END:DAYLIGHT
BEGIN:STANDARD
TZOFFSETFROM:-0400
TZOFFSETTO:-0500
TZNAME:EST
DTSTART:20261101T060000
END:STANDARD
BEGIN:DAYLIGHT
TZOFFSETFROM:-0500
TZOFFSETTO:-0400
TZNAME:EDT
DTSTART:20270314T070000
END:DAYLIGHT
BEGIN:STANDARD
TZOFFSETFROM:-0400
TZOFFSETTO:-0500
TZNAME:EST
DTSTART:20271107T060000
END:STANDARD
END:VTIMEZONE
BEGIN:VEVENT
DTSTART;TZID=America/New_York:20260204T103000
DTEND;TZID=America/New_York:20260204T120000
DTSTAMP:20260423T173302
CREATED:20260129T180843Z
LAST-MODIFIED:20260129T181134Z
UID:1220-1770201000-1770206400@formerrobertmotonhighschool.org
SUMMARY:Scholarship Committee February 4 Virtual
DESCRIPTION:Topic: My Meeting\nTime: Feb 4\, 2026 10:30 AM Eastern Time (US and Canada)\nJoin Zoom Meeting \nClick here \nhttps://us06web.zoom.us/j/3710287195?pwd=O6Gpk2JgSYnh4xI7baXQYjyzRBmMOO.1&omn=83621843041 \nMeeting ID: 371 028 7195\nPasscode: RM2026 \n— \nOne tap mobile\n+19292056099\,\,3710287195#\,\,\,\,*267780# US (New York)\n+13017158592\,\,3710287195#\,\,\,\,*267780# US (Washington DC)
URL:https://formerrobertmotonhighschool.org/event/scholarship-committee-february-4/
ATTACH;FMTTYPE=image/png:https://formerrobertmotonhighschool.org/wp-content/uploads/2023/01/pexels-kampus-sm1.png
END:VEVENT
END:VCALENDAR