BEGIN:VCALENDAR
VERSION:2.0
PRODID:-//Former Students and Friends of Robert Moton High School - ECPv6.15.20//NONSGML v1.0//EN
CALSCALE:GREGORIAN
METHOD:PUBLISH
X-ORIGINAL-URL:https://formerrobertmotonhighschool.org
X-WR-CALDESC:Events for Former Students and Friends of Robert Moton High School
REFRESH-INTERVAL;VALUE=DURATION:PT1H
X-Robots-Tag:noindex
X-PUBLISHED-TTL:PT1H
BEGIN:VTIMEZONE
TZID:America/New_York
BEGIN:DAYLIGHT
TZOFFSETFROM:-0500
TZOFFSETTO:-0400
TZNAME:EDT
DTSTART:20220313T070000
END:DAYLIGHT
BEGIN:STANDARD
TZOFFSETFROM:-0400
TZOFFSETTO:-0500
TZNAME:EST
DTSTART:20221106T060000
END:STANDARD
BEGIN:DAYLIGHT
TZOFFSETFROM:-0500
TZOFFSETTO:-0400
TZNAME:EDT
DTSTART:20230312T070000
END:DAYLIGHT
BEGIN:STANDARD
TZOFFSETFROM:-0400
TZOFFSETTO:-0500
TZNAME:EST
DTSTART:20231105T060000
END:STANDARD
BEGIN:DAYLIGHT
TZOFFSETFROM:-0500
TZOFFSETTO:-0400
TZNAME:EDT
DTSTART:20240310T070000
END:DAYLIGHT
BEGIN:STANDARD
TZOFFSETFROM:-0400
TZOFFSETTO:-0500
TZNAME:EST
DTSTART:20241103T060000
END:STANDARD
END:VTIMEZONE
BEGIN:VEVENT
DTSTART;TZID=America/New_York:20230709T140000
DTEND;TZID=America/New_York:20230709T180000
DTSTAMP:20260424T090554
CREATED:20230611T161711Z
LAST-MODIFIED:20230611T175249Z
UID:912-1688911200-1688925600@formerrobertmotonhighschool.org
SUMMARY:Scholarship Dinner Dance
DESCRIPTION:Celebrating 50 Years of Giving Scholarships to the Community \nDonation: $55
URL:https://formerrobertmotonhighschool.org/event/dinner-dance/
LOCATION:Mount Airy Reception Hall\, 1008 Twin Arch rd\, Mt Airy\, MD\, 21771\, United States
CATEGORIES:Event - Robert Moton,Scholarships
ATTACH;FMTTYPE=image/png:https://formerrobertmotonhighschool.org/wp-content/uploads/2023/06/Dinner-Dance-2023.png
ORGANIZER;CN="Former Students and Friends of Robert Moton High School%2C Inc":MAILTO:info@formerrobertmotonhighschool.org
END:VEVENT
END:VCALENDAR