BEGIN:VCALENDAR
VERSION:2.0
PRODID:-//Former Students and Friends of Robert Moton High School - ECPv6.15.20//NONSGML v1.0//EN
CALSCALE:GREGORIAN
METHOD:PUBLISH
X-WR-CALNAME:Former Students and Friends of Robert Moton High School
X-ORIGINAL-URL:https://formerrobertmotonhighschool.org
X-WR-CALDESC:Events for Former Students and Friends of Robert Moton High School
REFRESH-INTERVAL;VALUE=DURATION:PT1H
X-Robots-Tag:noindex
X-PUBLISHED-TTL:PT1H
BEGIN:VTIMEZONE
TZID:America/New_York
BEGIN:DAYLIGHT
TZOFFSETFROM:-0500
TZOFFSETTO:-0400
TZNAME:EDT
DTSTART:20250309T070000
END:DAYLIGHT
BEGIN:STANDARD
TZOFFSETFROM:-0400
TZOFFSETTO:-0500
TZNAME:EST
DTSTART:20251102T060000
END:STANDARD
BEGIN:DAYLIGHT
TZOFFSETFROM:-0500
TZOFFSETTO:-0400
TZNAME:EDT
DTSTART:20260308T070000
END:DAYLIGHT
BEGIN:STANDARD
TZOFFSETFROM:-0400
TZOFFSETTO:-0500
TZNAME:EST
DTSTART:20261101T060000
END:STANDARD
BEGIN:DAYLIGHT
TZOFFSETFROM:-0500
TZOFFSETTO:-0400
TZNAME:EDT
DTSTART:20270314T070000
END:DAYLIGHT
BEGIN:STANDARD
TZOFFSETFROM:-0400
TZOFFSETTO:-0500
TZNAME:EST
DTSTART:20271107T060000
END:STANDARD
BEGIN:DAYLIGHT
TZOFFSETFROM:-0500
TZOFFSETTO:-0400
TZNAME:EDT
DTSTART:20280312T070000
END:DAYLIGHT
BEGIN:STANDARD
TZOFFSETFROM:-0400
TZOFFSETTO:-0500
TZNAME:EST
DTSTART:20281105T060000
END:STANDARD
END:VTIMEZONE
BEGIN:VEVENT
DTSTART;TZID=America/New_York:20260502T120000
DTEND;TZID=America/New_York:20260502T160000
DTSTAMP:20260423T191218
CREATED:20260110T164556Z
LAST-MODIFIED:20260314T144941Z
UID:1201-1777723200-1777737600@formerrobertmotonhighschool.org
SUMMARY:Annual Scholarship Luncheon
DESCRIPTION:
URL:https://formerrobertmotonhighschool.org/event/scholarship-dinner/
LOCATION:Dutches Daughter\, 581 Himes Ave\, Frederick\, MD\, 21703\, United States
ATTACH;FMTTYPE=image/png:https://formerrobertmotonhighschool.org/wp-content/uploads/2023/06/Dinner-Table-sm.png
ORGANIZER;CN="Former Students and Friends of Robert Moton High School%2C Inc":MAILTO:info@formerrobertmotonhighschool.org
END:VEVENT
BEGIN:VEVENT
DTSTART;TZID=America/New_York:20270118T080000
DTEND;TZID=America/New_York:20270118T100000
DTSTAMP:20260423T191218
CREATED:20260314T145714Z
LAST-MODIFIED:20260314T150651Z
UID:1262-1800259200-1800266400@formerrobertmotonhighschool.org
SUMMARY:MLK Breakfast
DESCRIPTION:Wakefield Valley Club
URL:https://formerrobertmotonhighschool.org/event/mlk-breakfast/
ATTACH;FMTTYPE=image/png:https://formerrobertmotonhighschool.org/wp-content/uploads/2026/03/MLK-Jr-for-RM.png
END:VEVENT
END:VCALENDAR