BEGIN:VCALENDAR
VERSION:2.0
PRODID:-//Former Students and Friends of Robert Moton High School - ECPv6.15.20//NONSGML v1.0//EN
CALSCALE:GREGORIAN
METHOD:PUBLISH
X-ORIGINAL-URL:https://formerrobertmotonhighschool.org
X-WR-CALDESC:Events for Former Students and Friends of Robert Moton High School
REFRESH-INTERVAL;VALUE=DURATION:PT1H
X-Robots-Tag:noindex
X-PUBLISHED-TTL:PT1H
BEGIN:VTIMEZONE
TZID:America/New_York
BEGIN:DAYLIGHT
TZOFFSETFROM:-0500
TZOFFSETTO:-0400
TZNAME:EDT
DTSTART:20240310T070000
END:DAYLIGHT
BEGIN:STANDARD
TZOFFSETFROM:-0400
TZOFFSETTO:-0500
TZNAME:EST
DTSTART:20241103T060000
END:STANDARD
BEGIN:DAYLIGHT
TZOFFSETFROM:-0500
TZOFFSETTO:-0400
TZNAME:EDT
DTSTART:20250309T070000
END:DAYLIGHT
BEGIN:STANDARD
TZOFFSETFROM:-0400
TZOFFSETTO:-0500
TZNAME:EST
DTSTART:20251102T060000
END:STANDARD
BEGIN:DAYLIGHT
TZOFFSETFROM:-0500
TZOFFSETTO:-0400
TZNAME:EDT
DTSTART:20260308T070000
END:DAYLIGHT
BEGIN:STANDARD
TZOFFSETFROM:-0400
TZOFFSETTO:-0500
TZNAME:EST
DTSTART:20261101T060000
END:STANDARD
BEGIN:DAYLIGHT
TZOFFSETFROM:-0500
TZOFFSETTO:-0400
TZNAME:EDT
DTSTART:20270314T070000
END:DAYLIGHT
BEGIN:STANDARD
TZOFFSETFROM:-0400
TZOFFSETTO:-0500
TZNAME:EST
DTSTART:20271107T060000
END:STANDARD
BEGIN:DAYLIGHT
TZOFFSETFROM:-0500
TZOFFSETTO:-0400
TZNAME:EDT
DTSTART:20280312T070000
END:DAYLIGHT
BEGIN:STANDARD
TZOFFSETFROM:-0400
TZOFFSETTO:-0500
TZNAME:EST
DTSTART:20281105T060000
END:STANDARD
END:VTIMEZONE
BEGIN:VEVENT
DTSTART;TZID=America/New_York:20250619T170000
DTEND;TZID=America/New_York:20250619T203000
DTSTAMP:20260424T103702
CREATED:20250308T161436Z
LAST-MODIFIED:20250412T151709Z
UID:1122-1750352400-1750365000@formerrobertmotonhighschool.org
SUMMARY:Night of History
DESCRIPTION:7 Guest Speaker \n37-42 \n60-65 \n 
URL:https://formerrobertmotonhighschool.org/event/night-of-history/
LOCATION:Robert Moton Center\, 300 S Court St\, Westminster\, MD\, 21157\, United States
END:VEVENT
BEGIN:VEVENT
DTSTART;TZID=America/New_York:20251009T180000
DTEND;TZID=America/New_York:20251013T110000
DTSTAMP:20260424T103702
CREATED:20250916T203125Z
LAST-MODIFIED:20250916T203404Z
UID:1171-1760032800-1760353200@formerrobertmotonhighschool.org
SUMMARY:The Vietnam Traveling Memorial Wall
DESCRIPTION:The Traveling Wall\nThe Vietnam Traveling Wall is a 3/5 scale of the Vietnam Memorial in Washington DC\, it stands six feet tall at the center and covers almost 300 feet from end to end. \nThis Traveling Memorial stands as a reminder of the great sacrifices made during the Vietnam War. It was made for the purpose of helping heal and rekindle friendships and to allow people the opportunity to visit loved ones in their home town who otherwise may not be able to make the trip to Washington. \nBelow is courtesy of Carroll News \nThursday\, Oct 9. \nExhibition of the wall opens at 6 p.m. on Thursday\, Oct. 9. Former U.S. Marine and Vietnam veteran Oliver North is scheduled to speak at the opening event. Other exhibits and features will be available over the multi-day exhibition\, including a tranquility tent specifically for Vietnam veterans. \n  \nSaturday\, Oct 11 \nOn Saturday\, Oct. 11\, several speakers will share their experiences as prisoners of war. These individuals include Everett Alvarez of Rockville\, a U.S. Navy officer who endured the second-longest experience as a prisoner of war in American history.  Also scheduled to speak is John Fer\, who was held in captivity for six years alongside former U.S. Sen. John McCain. Two hundred candles will be lit to honor them and other POWs and MIAs \n  \nSunday\, Oct 12 \nOn Sunday\, Oct. 12\, closing ceremonies will feature two nurses: one of whom was in the field and another who identified POWs for the military. On Monday\, Oct. 13\, the wall will be on display until 11 a.m. “Taps” will play as the wall is packed up for transport to its next destination \nCourtesy of Carroll News Link to Article \nFeel free to visit The Vietnam Traveling Memorial Wall Website
URL:https://formerrobertmotonhighschool.org/event/the-vietnam-traveling-memorial-wall/
LOCATION:New Windsor Fire Department Grounds\, https://maps.app.goo.gl/6s3HYnbQNUuXxd2BA\, New Windsor\, MD\, 21776\, United States
ATTACH;FMTTYPE=image/png:https://formerrobertmotonhighschool.org/wp-content/uploads/2025/09/Vietnam-Traveling-Memorial-2025-2.png
END:VEVENT
BEGIN:VEVENT
DTSTART;TZID=America/New_York:20251018T150000
DTEND;TZID=America/New_York:20251018T190000
DTSTAMP:20260424T103702
CREATED:20250913T234607Z
LAST-MODIFIED:20250913T234607Z
UID:1164-1760799600-1760814000@formerrobertmotonhighschool.org
SUMMARY:Gospel Festival
DESCRIPTION:
URL:https://formerrobertmotonhighschool.org/event/gospel-festival/
LOCATION:Robert Moton Center\, 300 S Court St\, Westminster\, MD\, 21157\, United States
ATTACH;FMTTYPE=image/png:https://formerrobertmotonhighschool.org/wp-content/uploads/2025/09/Gospel-Fest-2025.png
ORGANIZER;CN="Former Students and Friends of Robert Moton High School%2C Inc":MAILTO:info@formerrobertmotonhighschool.org
END:VEVENT
BEGIN:VEVENT
DTSTART;TZID=America/New_York:20251213T130000
DTEND;TZID=America/New_York:20251213T150000
DTSTAMP:20260424T103702
CREATED:20251108T165812Z
LAST-MODIFIED:20251108T165812Z
UID:1186-1765630800-1765638000@formerrobertmotonhighschool.org
SUMMARY:Christmas Party
DESCRIPTION:Christmas Party \nCatered by Rock Salt \nLocation: Carroll County Community Center
URL:https://formerrobertmotonhighschool.org/event/christmas-party/
LOCATION:Robert Moton Center\, 300 S Court St\, Westminster\, MD\, 21157\, United States
END:VEVENT
BEGIN:VEVENT
DTSTART;TZID=America/New_York:20251219T130000
DTEND;TZID=America/New_York:20251219T150000
DTSTAMP:20260424T103702
CREATED:20251108T170028Z
LAST-MODIFIED:20251108T171222Z
UID:1189-1766149200-1766156400@formerrobertmotonhighschool.org
SUMMARY:Celebrating America Holiday Event
DESCRIPTION:
URL:https://formerrobertmotonhighschool.org/event/celebrating-america/
LOCATION:Robert Moton Center\, 300 S Court St\, Westminster\, MD\, 21157\, United States
END:VEVENT
BEGIN:VEVENT
DTSTART;TZID=America/New_York:20260110T103000
DTEND;TZID=America/New_York:20260110T120000
DTSTAMP:20260424T103702
CREATED:20260109T151437Z
LAST-MODIFIED:20260109T154027Z
UID:1196-1768041000-1768046400@formerrobertmotonhighschool.org
SUMMARY:January 10 Board Meeting
DESCRIPTION:Friends and Students Former Robert Moton High School Monthly Meeting\nJanuary 10\, 2025 11:00 AM Eastern Time (US and Canada)\nEvery month on the Second Saturday \nJoin Zoom Meeting \nhttps://us06web.zoom.us/j/88948650556?pwd=ynXLijEha82c2A8HesoM06EesExfwB.1 \nJoin – Click Here\nMeeting ID: 88948650556\nPasscode: 730339 \n— \nOne tap mobile\n+13092053325 \n+13126266799 (Alternate) \nMeeting ID: 88948650556\nPasscode: 730339
URL:https://formerrobertmotonhighschool.org/event/january-10-board-meeting/
ATTACH;FMTTYPE=image/png:https://formerrobertmotonhighschool.org/wp-content/uploads/2023/01/Board-Meeting-Cal.png
END:VEVENT
BEGIN:VEVENT
DTSTART;TZID=America/New_York:20260203T103000
DTEND;TZID=America/New_York:20260203T120000
DTSTAMP:20260424T103702
CREATED:20260129T181048Z
LAST-MODIFIED:20260129T181048Z
UID:1222-1770114600-1770120000@formerrobertmotonhighschool.org
SUMMARY:Scholarship Committee February 3 - Virtual
DESCRIPTION:Topic: My Meeting\nTime: Feb 3\, 2026 10:30 AM Eastern Time (US and Canada)\nJoin Zoom Meeting \nClick here \nhttps://us06web.zoom.us/j/3710287195?pwd=O6Gpk2JgSYnh4xI7baXQYjyzRBmMOO.1&omn=83621843041 \nMeeting ID: 371 028 7195\nPasscode: RM2026 \n— \nOne tap mobile\n+19292056099\,\,3710287195#\,\,\,\,*267780# US (New York)\n+13017158592\,\,3710287195#\,\,\,\,*267780# US (Washington DC)
URL:https://formerrobertmotonhighschool.org/event/scholarship-committee-february-3-virtual/
ATTACH;FMTTYPE=image/png:https://formerrobertmotonhighschool.org/wp-content/uploads/2023/01/monstera-6238027-600x500-1.png
END:VEVENT
BEGIN:VEVENT
DTSTART;TZID=America/New_York:20260204T103000
DTEND;TZID=America/New_York:20260204T120000
DTSTAMP:20260424T103702
CREATED:20260129T180843Z
LAST-MODIFIED:20260129T181134Z
UID:1220-1770201000-1770206400@formerrobertmotonhighschool.org
SUMMARY:Scholarship Committee February 4 Virtual
DESCRIPTION:Topic: My Meeting\nTime: Feb 4\, 2026 10:30 AM Eastern Time (US and Canada)\nJoin Zoom Meeting \nClick here \nhttps://us06web.zoom.us/j/3710287195?pwd=O6Gpk2JgSYnh4xI7baXQYjyzRBmMOO.1&omn=83621843041 \nMeeting ID: 371 028 7195\nPasscode: RM2026 \n— \nOne tap mobile\n+19292056099\,\,3710287195#\,\,\,\,*267780# US (New York)\n+13017158592\,\,3710287195#\,\,\,\,*267780# US (Washington DC)
URL:https://formerrobertmotonhighschool.org/event/scholarship-committee-february-4/
ATTACH;FMTTYPE=image/png:https://formerrobertmotonhighschool.org/wp-content/uploads/2023/01/pexels-kampus-sm1.png
END:VEVENT
BEGIN:VEVENT
DTSTART;TZID=America/New_York:20260209T160000
DTEND;TZID=America/New_York:20260209T170000
DTSTAMP:20260424T103702
CREATED:20260209T190419Z
LAST-MODIFIED:20260209T190539Z
UID:1234-1770652800-1770656400@formerrobertmotonhighschool.org
SUMMARY:Scholarship Banquet Discussion
DESCRIPTION:Zoom Only \n  \nTopic: February 9 2026\nTime: Feb 9\, 2026 04:00 PM Eastern Time (US and Canada)\nJoin Zoom Meeting \nClick here\nhttps://us06web.zoom.us/j/3710287195?pwd=O6Gpk2JgSYnh4xI7baXQYjyzRBmMOO.1&omn=84556965964\nMeeting ID: 371 028 7195\nPasscode: RM2026 \n— \nOne tap mobile\n+1301 715 8592\,\,371 028 7195#\,\,\,\,*267780# US (Washington DC)\n+1305 224 1968\,\,371 028 7195#\,\,\,\,*267780# US \nJoin instructions\nhttps://us06web.zoom.us/meetings/84556965964/invitations?signature=7GNnUcXwhhcl8XAqDYoQk5_bxUZ9VNlu_JIjg6TxBdE \n 
URL:https://formerrobertmotonhighschool.org/event/scholarship-banquet-discussion/
END:VEVENT
BEGIN:VEVENT
DTSTART;TZID=America/New_York:20260214T103000
DTEND;TZID=America/New_York:20260214T120000
DTSTAMP:20260424T103702
CREATED:20260129T180426Z
LAST-MODIFIED:20260129T181224Z
UID:1218-1771065000-1771070400@formerrobertmotonhighschool.org
SUMMARY:February 14 Board Meeting
DESCRIPTION:Friends and Students Former Robert Moton High School Monthly Meeting\nFebruary 14\, 2026 10:30 AM Eastern Time (US and Canada)\nEvery month on the Second Saturday \nJoin Zoom Meeting \nhttps://us06web.zoom.us/j/88948650556?pwd=ynXLijEha82c2A8HesoM06EesExfwB.1 \nJoin – Click Here\nMeeting ID: 88948650556\nPasscode: 730339 \n— \nOne tap mobile\n+13092053325 \n+13126266799 (Alternate) \nMeeting ID: 88948650556\nPasscode: 730339
URL:https://formerrobertmotonhighschool.org/event/february-14-board-meeting/
ATTACH;FMTTYPE=image/png:https://formerrobertmotonhighschool.org/wp-content/uploads/2023/01/Board-Meeting-Cal.png
END:VEVENT
BEGIN:VEVENT
DTSTART;TZID=America/New_York:20260219T130000
DTEND;TZID=America/New_York:20260219T140000
DTSTAMP:20260424T103702
CREATED:20260218T183342Z
LAST-MODIFIED:20260218T185526Z
UID:1245-1771506000-1771509600@formerrobertmotonhighschool.org
SUMMARY:Dinner Menu Discussion
DESCRIPTION:Topic: Menu for Dinner Dance\nTime: Feb 19\, 2026 01:00 PM Eastern Time (US and Canada)\nJoin Zoom Meeting \nClick here\nhttps://us06web.zoom.us/j/3710287195?pwd=O6Gpk2JgSYnh4xI7baXQYjyzRBmMOO.1&omn=86201407741\nMeeting ID: 371 028 7195\nPasscode: RM2026 \n— \nOne tap mobile\n+13017158592\,\,3710287195#\,\,\,\,*267780# US (Washington DC)\n+13052241968\,\,3710287195#\,\,\,\,*267780# US
URL:https://formerrobertmotonhighschool.org/event/dinner-menu-discussion/
END:VEVENT
BEGIN:VEVENT
DTSTART;TZID=America/New_York:20260314T103000
DTEND;TZID=America/New_York:20260314T120000
DTSTAMP:20260424T103702
CREATED:20260218T184055Z
LAST-MODIFIED:20260218T185141Z
UID:1247-1773484200-1773489600@formerrobertmotonhighschool.org
SUMMARY:March 14 Board Meeting
DESCRIPTION:Friends and Students Former Robert Moton High School Monthly Meeting\nMarch 14\, 2026 10:30 AM Eastern Time (US and Canada)\nEvery month on the Second Saturday \nJoin Zoom Meeting \nhttps://us06web.zoom.us/j/88948650556?pwd=ynXLijEha82c2A8HesoM06EesExfwB.1 \nJoin – Click Here\nMeeting ID: 88948650556\nPasscode: 730339 \n— \nOne tap mobile\n+13092053325 \n+13126266799 (Alternate) \nMeeting ID: 88948650556\nPasscode: 730339
URL:https://formerrobertmotonhighschool.org/event/february-14-board-meeting-copy/
LOCATION:Robert Moton Center\, 300 S Court St\, Westminster\, MD\, 21157\, United States
ATTACH;FMTTYPE=image/png:https://formerrobertmotonhighschool.org/wp-content/uploads/2023/01/Board-Meeting-Cal.png
ORGANIZER;CN="Former Students and Friends of Robert Moton High School%2C Inc":MAILTO:info@formerrobertmotonhighschool.org
END:VEVENT
BEGIN:VEVENT
DTSTART;TZID=America/New_York:20260411T103000
DTEND;TZID=America/New_York:20260411T120000
DTSTAMP:20260424T103702
CREATED:20260314T144258Z
LAST-MODIFIED:20260314T144258Z
UID:1259-1775903400-1775908800@formerrobertmotonhighschool.org
SUMMARY:April 11\, Board Meeting
DESCRIPTION:Friends and Students Former Robert Moton High School Monthly Meeting\nMarch 14\, 2026 10:30 AM Eastern Time (US and Canada)\nEvery month on the Second Saturday \nJoin Zoom Meeting \nhttps://us06web.zoom.us/j/88948650556?pwd=ynXLijEha82c2A8HesoM06EesExfwB.1 \nJoin – Click Here\nMeeting ID: 88948650556\nPasscode: 730339 \n— \nOne tap mobile\n+13092053325 \n+13126266799 (Alternate) \nMeeting ID: 88948650556\nPasscode: 730339
URL:https://formerrobertmotonhighschool.org/event/april-11-board-meeting/
LOCATION:Robert Moton Center\, 300 S Court St\, Westminster\, MD\, 21157\, United States
ATTACH;FMTTYPE=image/jpeg:https://formerrobertmotonhighschool.org/wp-content/uploads/2023/01/IMG_4022-scaled.jpg
END:VEVENT
BEGIN:VEVENT
DTSTART;TZID=America/New_York:20260502T120000
DTEND;TZID=America/New_York:20260502T160000
DTSTAMP:20260424T103702
CREATED:20260110T164556Z
LAST-MODIFIED:20260314T144941Z
UID:1201-1777723200-1777737600@formerrobertmotonhighschool.org
SUMMARY:Annual Scholarship Luncheon
DESCRIPTION:
URL:https://formerrobertmotonhighschool.org/event/scholarship-dinner/
LOCATION:Dutches Daughter\, 581 Himes Ave\, Frederick\, MD\, 21703\, United States
ATTACH;FMTTYPE=image/png:https://formerrobertmotonhighschool.org/wp-content/uploads/2023/06/Dinner-Table-sm.png
ORGANIZER;CN="Former Students and Friends of Robert Moton High School%2C Inc":MAILTO:info@formerrobertmotonhighschool.org
END:VEVENT
BEGIN:VEVENT
DTSTART;TZID=America/New_York:20270118T080000
DTEND;TZID=America/New_York:20270118T100000
DTSTAMP:20260424T103702
CREATED:20260314T145714Z
LAST-MODIFIED:20260314T150651Z
UID:1262-1800259200-1800266400@formerrobertmotonhighschool.org
SUMMARY:MLK Breakfast
DESCRIPTION:Wakefield Valley Club
URL:https://formerrobertmotonhighschool.org/event/mlk-breakfast/
ATTACH;FMTTYPE=image/png:https://formerrobertmotonhighschool.org/wp-content/uploads/2026/03/MLK-Jr-for-RM.png
END:VEVENT
END:VCALENDAR