BEGIN:VCALENDAR
VERSION:2.0
PRODID:-//Former Students and Friends of Robert Moton High School - ECPv6.15.20//NONSGML v1.0//EN
CALSCALE:GREGORIAN
METHOD:PUBLISH
X-ORIGINAL-URL:https://formerrobertmotonhighschool.org
X-WR-CALDESC:Events for Former Students and Friends of Robert Moton High School
REFRESH-INTERVAL;VALUE=DURATION:PT1H
X-Robots-Tag:noindex
X-PUBLISHED-TTL:PT1H
BEGIN:VTIMEZONE
TZID:America/New_York
BEGIN:DAYLIGHT
TZOFFSETFROM:-0500
TZOFFSETTO:-0400
TZNAME:EDT
DTSTART:20220313T070000
END:DAYLIGHT
BEGIN:STANDARD
TZOFFSETFROM:-0400
TZOFFSETTO:-0500
TZNAME:EST
DTSTART:20221106T060000
END:STANDARD
BEGIN:DAYLIGHT
TZOFFSETFROM:-0500
TZOFFSETTO:-0400
TZNAME:EDT
DTSTART:20230312T070000
END:DAYLIGHT
BEGIN:STANDARD
TZOFFSETFROM:-0400
TZOFFSETTO:-0500
TZNAME:EST
DTSTART:20231105T060000
END:STANDARD
BEGIN:DAYLIGHT
TZOFFSETFROM:-0500
TZOFFSETTO:-0400
TZNAME:EDT
DTSTART:20240310T070000
END:DAYLIGHT
BEGIN:STANDARD
TZOFFSETFROM:-0400
TZOFFSETTO:-0500
TZNAME:EST
DTSTART:20241103T060000
END:STANDARD
BEGIN:DAYLIGHT
TZOFFSETFROM:-0500
TZOFFSETTO:-0400
TZNAME:EDT
DTSTART:20250309T070000
END:DAYLIGHT
BEGIN:STANDARD
TZOFFSETFROM:-0400
TZOFFSETTO:-0500
TZNAME:EST
DTSTART:20251102T060000
END:STANDARD
END:VTIMEZONE
BEGIN:VEVENT
DTSTART;TZID=America/New_York:20240504T110000
DTEND;TZID=America/New_York:20240504T130000
DTSTAMP:20260423T153138
CREATED:20240405T161541Z
LAST-MODIFIED:20240405T163004Z
UID:1044-1714820400-1714827600@formerrobertmotonhighschool.org
SUMMARY:Scholarship Acceptance Luncheon
DESCRIPTION:Former Students and Friends of Robert Moton High School are proud to celebrate the scholarship awards with the recipients.
URL:https://formerrobertmotonhighschool.org/event/scholarship-acceptance-luncheon/
LOCATION:Robert Moton Center\, 300 S Court St\, Westminster\, MD\, 21157\, United States
CATEGORIES:Event - Robert Moton
ATTACH;FMTTYPE=image/png:https://formerrobertmotonhighschool.org/wp-content/uploads/2024/04/Scholarship-Luncheon.png
END:VEVENT
BEGIN:VEVENT
DTSTART;TZID=America/New_York:20230916T130000
DTEND;TZID=America/New_York:20230916T170000
DTSTAMP:20260423T153138
CREATED:20230718T135718Z
LAST-MODIFIED:20230815T002831Z
UID:942-1694869200-1694883600@formerrobertmotonhighschool.org
SUMMARY:Crab Feast at Salerno's Restaurant and Catering
DESCRIPTION:
URL:https://formerrobertmotonhighschool.org/event/crab-feast/
LOCATION:Salerno’s\, 1043 Liberty Rd\, Eldersburg\, MD\, 21784\, United States
ATTACH;FMTTYPE=image/png:https://formerrobertmotonhighschool.org/wp-content/uploads/2023/01/Crab-Feast-23sm.png
END:VEVENT
BEGIN:VEVENT
DTSTART;TZID=America/New_York:20230709T140000
DTEND;TZID=America/New_York:20230709T180000
DTSTAMP:20260423T153138
CREATED:20230611T161711Z
LAST-MODIFIED:20230611T175249Z
UID:912-1688911200-1688925600@formerrobertmotonhighschool.org
SUMMARY:Scholarship Dinner Dance
DESCRIPTION:Celebrating 50 Years of Giving Scholarships to the Community \nDonation: $55
URL:https://formerrobertmotonhighschool.org/event/dinner-dance/
LOCATION:Mount Airy Reception Hall\, 1008 Twin Arch rd\, Mt Airy\, MD\, 21771\, United States
CATEGORIES:Event - Robert Moton,Scholarships
ATTACH;FMTTYPE=image/png:https://formerrobertmotonhighschool.org/wp-content/uploads/2023/06/Dinner-Dance-2023.png
ORGANIZER;CN="Former Students and Friends of Robert Moton High School%2C Inc":MAILTO:info@formerrobertmotonhighschool.org
END:VEVENT
BEGIN:VEVENT
DTSTART;TZID=America/New_York:20230610T103000
DTEND;TZID=America/New_York:20230610T120000
DTSTAMP:20260423T153138
CREATED:20230119T030621Z
LAST-MODIFIED:20230121T015317Z
UID:327-1686393000-1686398400@formerrobertmotonhighschool.org
SUMMARY:Robert Moton Board Meeting
DESCRIPTION:Meeting is the Second Saturday of the Month
URL:https://formerrobertmotonhighschool.org/event/robert-moton-board-meeting-copy-2/
LOCATION:Robert Moton Center\, 300 S Court St\, Westminster\, MD\, 21157\, United States
CATEGORIES:Organization Meetings
ATTACH;FMTTYPE=image/png:https://formerrobertmotonhighschool.org/wp-content/uploads/2023/01/Board-Meeting-Cal.png
END:VEVENT
BEGIN:VEVENT
DTSTART;TZID=America/New_York:20230520T103000
DTEND;TZID=America/New_York:20230520T120000
DTSTAMP:20260423T153138
CREATED:20230119T030515Z
LAST-MODIFIED:20230119T040412Z
UID:325-1684578600-1684584000@formerrobertmotonhighschool.org
SUMMARY:Robert Moton Board Meeting
DESCRIPTION:Meeting is the Third  Saturday of the Month
URL:https://formerrobertmotonhighschool.org/event/robert-moton-board-meeting-3/
LOCATION:Robert Moton Center\, 300 S Court St\, Westminster\, MD\, 21157\, United States
CATEGORIES:Event - Robert Moton
ATTACH;FMTTYPE=image/png:https://formerrobertmotonhighschool.org/wp-content/uploads/2023/01/Board-Meeting-Cal.png
END:VEVENT
BEGIN:VEVENT
DTSTART;TZID=America/New_York:20230408T103000
DTEND;TZID=America/New_York:20230408T120000
DTSTAMP:20260423T153138
CREATED:20230119T030307Z
LAST-MODIFIED:20230119T040246Z
UID:322-1680949800-1680955200@formerrobertmotonhighschool.org
SUMMARY:Robert Moton Board Meeting
DESCRIPTION:Meeting is the Second Saturday of the Month
URL:https://formerrobertmotonhighschool.org/event/robert-moton-board-meeting-copy/
LOCATION:Robert Moton Center\, 300 S Court St\, Westminster\, MD\, 21157\, United States
CATEGORIES:Event - Robert Moton
ATTACH;FMTTYPE=image/png:https://formerrobertmotonhighschool.org/wp-content/uploads/2023/01/Board-Meeting-Cal.png
END:VEVENT
BEGIN:VEVENT
DTSTART;TZID=America/New_York:20230311T103000
DTEND;TZID=America/New_York:20230311T120000
DTSTAMP:20260423T153138
CREATED:20230119T030151Z
LAST-MODIFIED:20230119T040218Z
UID:319-1678530600-1678536000@formerrobertmotonhighschool.org
SUMMARY:Robert Moton Board Meeting
DESCRIPTION:Meets on the second Saturday of the month
URL:https://formerrobertmotonhighschool.org/event/robert-moton-board-meeting-2/
LOCATION:Robert Moton Center\, 300 S Court St\, Westminster\, MD\, 21157\, United States
CATEGORIES:Event - Robert Moton
ATTACH;FMTTYPE=image/png:https://formerrobertmotonhighschool.org/wp-content/uploads/2023/01/Board-Meeting-Cal.png
END:VEVENT
BEGIN:VEVENT
DTSTART;TZID=America/New_York:20230211T103000
DTEND;TZID=America/New_York:20230211T120000
DTSTAMP:20260423T153138
CREATED:20230116T211041Z
LAST-MODIFIED:20230119T040135Z
UID:163-1676111400-1676116800@formerrobertmotonhighschool.org
SUMMARY:Robert Moton Board Meeting
DESCRIPTION:Meets on the second Saturday of the Month
URL:https://formerrobertmotonhighschool.org/event/robert-moton-board-meeting/
LOCATION:Robert Moton Center\, 300 S Court St\, Westminster\, MD\, 21157\, United States
CATEGORIES:Event - Robert Moton
ATTACH;FMTTYPE=image/png:https://formerrobertmotonhighschool.org/wp-content/uploads/2023/01/Board-Meeting-Cal.png
END:VEVENT
END:VCALENDAR