BEGIN:VCALENDAR
VERSION:2.0
PRODID:-//Former Students and Friends of Robert Moton High School - ECPv6.15.20//NONSGML v1.0//EN
CALSCALE:GREGORIAN
METHOD:PUBLISH
X-ORIGINAL-URL:https://formerrobertmotonhighschool.org
X-WR-CALDESC:Events for Former Students and Friends of Robert Moton High School
REFRESH-INTERVAL;VALUE=DURATION:PT1H
X-Robots-Tag:noindex
X-PUBLISHED-TTL:PT1H
BEGIN:VTIMEZONE
TZID:America/New_York
BEGIN:DAYLIGHT
TZOFFSETFROM:-0500
TZOFFSETTO:-0400
TZNAME:EDT
DTSTART:20240310T070000
END:DAYLIGHT
BEGIN:STANDARD
TZOFFSETFROM:-0400
TZOFFSETTO:-0500
TZNAME:EST
DTSTART:20241103T060000
END:STANDARD
BEGIN:DAYLIGHT
TZOFFSETFROM:-0500
TZOFFSETTO:-0400
TZNAME:EDT
DTSTART:20250309T070000
END:DAYLIGHT
BEGIN:STANDARD
TZOFFSETFROM:-0400
TZOFFSETTO:-0500
TZNAME:EST
DTSTART:20251102T060000
END:STANDARD
BEGIN:DAYLIGHT
TZOFFSETFROM:-0500
TZOFFSETTO:-0400
TZNAME:EDT
DTSTART:20260308T070000
END:DAYLIGHT
BEGIN:STANDARD
TZOFFSETFROM:-0400
TZOFFSETTO:-0500
TZNAME:EST
DTSTART:20261101T060000
END:STANDARD
END:VTIMEZONE
BEGIN:VEVENT
DTSTART;TZID=America/New_York:20250308T103000
DTEND;TZID=America/New_York:20250308T120000
DTSTAMP:20260424T100848
CREATED:20250304T184004Z
LAST-MODIFIED:20250304T184939Z
UID:1107-1741429800-1741435200@formerrobertmotonhighschool.org
SUMMARY:Former Robert Moton High School Monthly Meeting
DESCRIPTION:In-Person and Zoom meeting\nFriends and Students Former Robert Moton High School Monthly Meeting\nMar 8\, 2025 10:30 AM Eastern Time (US and Canada)\nEvery month on the Second Saturday \nJoin Zoom Meeting \nClick Here\nMeeting ID: 883 4957 8401\nPasscode: 918452 \n— \nOne tap mobile\n+1646-931-3860 \nMeeting ID: 883 4957 8401\nPasscode: 918452 \n  \nAlso can Dial\n+1 301 715 8592 US \nMeeting ID: 883 4957 8401\nPasscode: 918452 \n  \n 
URL:https://formerrobertmotonhighschool.org/event/1107/
LOCATION:Robert Moton Center\, 300 S Court St\, Westminster\, MD\, 21157\, United States
ATTACH;FMTTYPE=image/png:https://formerrobertmotonhighschool.org/wp-content/uploads/2023/01/Board-1520-850.png
END:VEVENT
END:VCALENDAR