BEGIN:VCALENDAR
VERSION:2.0
PRODID:-//Former Students and Friends of Robert Moton High School - ECPv6.15.20//NONSGML v1.0//EN
CALSCALE:GREGORIAN
METHOD:PUBLISH
X-WR-CALNAME:Former Students and Friends of Robert Moton High School
X-ORIGINAL-URL:https://formerrobertmotonhighschool.org
X-WR-CALDESC:Events for Former Students and Friends of Robert Moton High School
REFRESH-INTERVAL;VALUE=DURATION:PT1H
X-Robots-Tag:noindex
X-PUBLISHED-TTL:PT1H
BEGIN:VTIMEZONE
TZID:America/New_York
BEGIN:DAYLIGHT
TZOFFSETFROM:-0500
TZOFFSETTO:-0400
TZNAME:EDT
DTSTART:20240310T070000
END:DAYLIGHT
BEGIN:STANDARD
TZOFFSETFROM:-0400
TZOFFSETTO:-0500
TZNAME:EST
DTSTART:20241103T060000
END:STANDARD
BEGIN:DAYLIGHT
TZOFFSETFROM:-0500
TZOFFSETTO:-0400
TZNAME:EDT
DTSTART:20250309T070000
END:DAYLIGHT
BEGIN:STANDARD
TZOFFSETFROM:-0400
TZOFFSETTO:-0500
TZNAME:EST
DTSTART:20251102T060000
END:STANDARD
BEGIN:DAYLIGHT
TZOFFSETFROM:-0500
TZOFFSETTO:-0400
TZNAME:EDT
DTSTART:20260308T070000
END:DAYLIGHT
BEGIN:STANDARD
TZOFFSETFROM:-0400
TZOFFSETTO:-0500
TZNAME:EST
DTSTART:20261101T060000
END:STANDARD
END:VTIMEZONE
BEGIN:VEVENT
DTSTART;TZID=America/New_York:20250504T140000
DTEND;TZID=America/New_York:20250504T170000
DTSTAMP:20260424T065820
CREATED:20250220T175613Z
LAST-MODIFIED:20250220T180554Z
UID:1099-1746367200-1746378000@formerrobertmotonhighschool.org
SUMMARY:Scholarship Dinner Dance 2025
DESCRIPTION:
URL:https://formerrobertmotonhighschool.org/event/scholarship-dinner-dance-2025/
LOCATION:Mount Airy Reception Hall\, 1008 Twin Arch rd\, Mt Airy\, MD\, 21771\, United States
ATTACH;FMTTYPE=image/png:https://formerrobertmotonhighschool.org/wp-content/uploads/2025/02/Scholarship-Dinner-Dance-2025.png
ORGANIZER;CN="Former Students and Friends of Robert Moton High School%2C Inc":MAILTO:info@formerrobertmotonhighschool.org
END:VEVENT
BEGIN:VEVENT
DTSTART;TZID=America/New_York:20250516T110000
DTEND;TZID=America/New_York:20250516T120000
DTSTAMP:20260424T065820
CREATED:20250308T160103Z
LAST-MODIFIED:20250308T160253Z
UID:1114-1747393200-1747396800@formerrobertmotonhighschool.org
SUMMARY:Former Students and Friends of Robert Moton High School Meeting
DESCRIPTION:Friends and Students Former Robert Moton High School Monthly Meeting\nMa7 16\, 2025 11:00 AM Eastern Time (US and Canada)\nEvery month on the Second Saturday \nJoin Zoom Meeting \nClick Here\nMeeting ID: 883 4957 8401\nPasscode: 918452 \n— \nOne tap mobile\n+1646-931-3860 \nMeeting ID: 883 4957 8401\nPasscode: 918452
URL:https://formerrobertmotonhighschool.org/event/1114/
LOCATION:Robert Moton Center\, 300 S Court St\, Westminster\, MD\, 21157\, United States
ATTACH;FMTTYPE=image/jpeg:https://formerrobertmotonhighschool.org/wp-content/uploads/2023/01/IMG_4022-scaled.jpg
END:VEVENT
BEGIN:VEVENT
DTSTART;TZID=America/New_York:20250516T130000
DTEND;TZID=America/New_York:20250516T150000
DTSTAMP:20260424T065820
CREATED:20250412T143615Z
LAST-MODIFIED:20250412T151906Z
UID:1133-1747400400-1747407600@formerrobertmotonhighschool.org
SUMMARY:Celebrating America\, 250th Anniversity
DESCRIPTION:
URL:https://formerrobertmotonhighschool.org/event/celebrating-america-250th-anniversity/
LOCATION:Robert Moton Center\, 300 S Court St\, Westminster\, MD\, 21157\, United States
END:VEVENT
END:VCALENDAR